{
 "currentVersion": 10.91,
 "serviceDescription": "",
 "mapName": "Layers",
 "description": "",
 "copyrightText": "",
 "supportsDynamicLayers": true,
 "layers": [
  {
   "id": 0,
   "name": "2021 Imagery",
   "parentLayerId": -1,
   "defaultVisibility": true,
   "subLayerIds": null,
   "minScale": 0,
   "maxScale": 0,
   "type": "Raster Layer"
  },
  {
   "id": 1,
   "name": "Image Mask",
   "parentLayerId": -1,
   "defaultVisibility": false,
   "subLayerIds": null,
   "minScale": 0,
   "maxScale": 0,
   "type": "Feature Layer",
   "geometryType": "esriGeometryPolygon"
  }
 ],
 "tables": [],
 "spatialReference": {
  "wkid": 102753,
  "latestWkid": 2288
 },
 "singleFusedMapCache": true,
 "tileInfo": {
  "rows": 256,
  "cols": 256,
  "dpi": 96,
  "format": "MIXED",
  "compressionQuality": 75,
  "origin": {
   "x": -117657700,
   "y": 141056500
  },
  "spatialReference": {
   "wkid": 102753,
   "latestWkid": 2288
  },
  "lods": [
   {
    "level": 0,
    "resolution": 303.8194444444444,
    "scale": 350000
   },
   {
    "level": 1,
    "resolution": 217.01388888888889,
    "scale": 250000
   },
   {
    "level": 2,
    "resolution": 108.50694444444444,
    "scale": 125000
   },
   {
    "level": 3,
    "resolution": 55.55555555555555,
    "scale": 64000
   },
   {
    "level": 4,
    "resolution": 20.833333333333332,
    "scale": 24000
   },
   {
    "level": 5,
    "resolution": 13.888888888888888,
    "scale": 16000
   },
   {
    "level": 6,
    "resolution": 6.944444444444444,
    "scale": 8000
   },
   {
    "level": 7,
    "resolution": 3.472222222222222,
    "scale": 4000
   },
   {
    "level": 8,
    "resolution": 1.736111111111111,
    "scale": 2000
   },
   {
    "level": 9,
    "resolution": 1.0416666666666665,
    "scale": 1200
   },
   {
    "level": 10,
    "resolution": 0.5208333333333333,
    "scale": 600
   }
  ]
 },
 "initialExtent": {
  "xmin": 1140542.4204404815,
  "ymin": 231979.24998703456,
  "xmax": 1515195.1982182595,
  "ymax": 438576.47220925684,
  "spatialReference": {
   "wkid": 102753,
   "latestWkid": 2288
  }
 },
 "fullExtent": {
  "xmin": 1080720.293577835,
  "ymin": 106422.39065992832,
  "xmax": 1572968.3608295184,
  "ymax": 545611.1298550242,
  "spatialReference": {
   "wkid": 102753,
   "latestWkid": 2288
  }
 },
 "minScale": 350000,
 "maxScale": 600,
 "units": "esriFeet",
 "supportedImageFormatTypes": "PNG32,PNG24,PNG,JPG,DIB,TIFF,EMF,PS,PDF,GIF,SVG,SVGZ,BMP",
 "documentInfo": {
  "Title": "",
  "Author": "",
  "Comments": "",
  "Subject": "2021 Pierce County Imagery",
  "Category": "",
  "AntialiasingMode": "None",
  "TextAntialiasingMode": "Force",
  "Keywords": "2021,Pierce County,Imagery"
 },
 "capabilities": "Map,Query,Data",
 "supportedQueryFormats": "JSON, geoJSON",
 "exportTilesAllowed": false,
 "referenceScale": 0,
 "supportsDatumTransformation": true,
 "maxRecordCount": 1000,
 "maxImageHeight": 4096,
 "maxImageWidth": 4096,
 "supportedExtensions": "",
 "serviceItemId": "ddf47a8c6fe54645ac594fef5ac16245"
}
